BEGIN:VCALENDAR
VERSION:2.0
PRODID:-//Centro Studi Torcellani - ECPv6.4.0.1//NONSGML v1.0//EN
CALSCALE:GREGORIAN
METHOD:PUBLISH
X-WR-CALNAME:Centro Studi Torcellani
X-ORIGINAL-URL:https://studitorcellani.it
X-WR-CALDESC:Eventi per Centro Studi Torcellani
REFRESH-INTERVAL;VALUE=DURATION:PT1H
X-Robots-Tag:noindex
X-PUBLISHED-TTL:PT1H
BEGIN:VTIMEZONE
TZID:Europe/Rome
BEGIN:DAYLIGHT
TZOFFSETFROM:+0100
TZOFFSETTO:+0200
TZNAME:CEST
DTSTART:20250330T010000
END:DAYLIGHT
BEGIN:STANDARD
TZOFFSETFROM:+0200
TZOFFSETTO:+0100
TZNAME:CET
DTSTART:20251026T010000
END:STANDARD
END:VTIMEZONE
BEGIN:VEVENT
DTSTART;TZID=Europe/Rome:20250621T080000
DTEND;TZID=Europe/Rome:20250621T133000
DTSTAMP:20260419T191704
CREATED:20250112T120125Z
LAST-MODIFIED:20250526T111320Z
UID:10000042-1750492800-1750512600@studitorcellani.it
SUMMARY:RIMIRAR VAGANDO...A BURANO
DESCRIPTION:Il Centro Studi Torcellani offre la propria collaborazione scientifica a LagunaKayak per il progetto sportivo-culturale “Rimirar Vagando” nel quale sport e cultura finalmente si uniscono nella scoperta della storia inedita del territorio lagunare torcellano.\nSolcando solitari canali ed ammirando suggestive barene accompagnati da Roberta Dei Rossi\, istruttrice della Federazione Italiana Canoa e Kayak (FICK)\, si rimarrà incantati da un paesaggio unico al mondo. \nOggi si propone “Rimirar Vagando… a Burano“. \nLa partenza e il rientro sono fissati da Punta Sabbioni. Gli orari saranno indicati al momento della prenotazione sulla base della marea più idonea. L’esperienza è adatta a tutte le età. \nInfo e prenotazioni: info@lagunakayak.com e consultando il sito www.lagunakayak.com
URL:https://studitorcellani.it/evento/rimirar-vagando-a-burano/
LOCATION:Laguna Torcellana\, Cavallino-Treporti\, 30013
ATTACH;FMTTYPE=image/jpeg:https://studitorcellani.it/wp-content/uploads/2025/01/7-settembre-Rimirar-Vagando-prima-edizione-38-scaled.jpg
ORGANIZER;CN="Studi Torcellani":MAILTO:cultura@studitorcellani.it
END:VEVENT
END:VCALENDAR