BEGIN:VCALENDAR
VERSION:2.0
PRODID:-//Centro Studi Torcellani - ECPv6.4.0.1//NONSGML v1.0//EN
CALSCALE:GREGORIAN
METHOD:PUBLISH
X-WR-CALNAME:Centro Studi Torcellani
X-ORIGINAL-URL:https://studitorcellani.it
X-WR-CALDESC:Eventi per Centro Studi Torcellani
REFRESH-INTERVAL;VALUE=DURATION:PT1H
X-Robots-Tag:noindex
X-PUBLISHED-TTL:PT1H
BEGIN:VTIMEZONE
TZID:Europe/Rome
BEGIN:DAYLIGHT
TZOFFSETFROM:+0100
TZOFFSETTO:+0200
TZNAME:CEST
DTSTART:20250330T010000
END:DAYLIGHT
BEGIN:STANDARD
TZOFFSETFROM:+0200
TZOFFSETTO:+0100
TZNAME:CET
DTSTART:20251026T010000
END:STANDARD
END:VTIMEZONE
BEGIN:VEVENT
DTSTART;TZID=Europe/Rome:20251009T170000
DTEND;TZID=Europe/Rome:20251009T180000
DTSTAMP:20260420T052713
CREATED:20250916T152253Z
LAST-MODIFIED:20250916T164522Z
UID:10000059-1760029200-1760032800@studitorcellani.it
SUMMARY:O BEATA SOLITUDO O SOLA BEATITUDO. L'ISOLA DI SAN FRANCESCO DEL DESERTO
DESCRIPTION:Nell’ambito del ciclo culturale “Dialoghi in Biblioteca. Storia e Storie: sguardi sulla laguna” promosso dalla Rete Biblioteche Civiche del Comune di Venezia\, incontro sulla storia dell’isola di San Francesco del Deserto.\nConosciuta dapprima come Isola delle Due Vigne\, considerata il luogo di passaggio di San Francesco in laguna nel 1220 e abitata ancora oggi dai frati minori\, l’isola di San Francesco del Deserto si presenta come un luogo ricco di storia e di spiritualità. \nDialogano assieme: Marco Molin – Centro Studi Torcellani e fra’ Carlo Cavallari – Guardiano dell’isola del Deserto.\nIntroducono: Monica Memo e Gloria Molin – Biblioteca di Burano. \nIngresso libero\, con prenotazione obbligatoria\, fino ad esaurimento posti disponibili\, scrivendo a: biblioteca.burano@comune.venezia.it oppure telefonando al numero 041-730933.
URL:https://studitorcellani.it/evento/o-beata-solitudo-o-sola-beatitudo-lisola-di-san-francesco-del-deserto/
LOCATION:Biblioteca di Burano\, San Mauro\, 107\, Burano
ATTACH;FMTTYPE=image/jpeg:https://studitorcellani.it/wp-content/uploads/2025/09/DSC_1933-locandina-Copia-scaled.jpg
ORGANIZER;CN="Studi Torcellani":MAILTO:cultura@studitorcellani.it
END:VEVENT
END:VCALENDAR