BEGIN:VCALENDAR
VERSION:2.0
PRODID:-//Centro Studi Torcellani - ECPv6.4.0.1//NONSGML v1.0//EN
CALSCALE:GREGORIAN
METHOD:PUBLISH
X-ORIGINAL-URL:https://studitorcellani.it
X-WR-CALDESC:Eventi per Centro Studi Torcellani
REFRESH-INTERVAL;VALUE=DURATION:PT1H
X-Robots-Tag:noindex
X-PUBLISHED-TTL:PT1H
BEGIN:VTIMEZONE
TZID:Europe/Rome
BEGIN:DAYLIGHT
TZOFFSETFROM:+0100
TZOFFSETTO:+0200
TZNAME:CEST
DTSTART:20250330T010000
END:DAYLIGHT
BEGIN:STANDARD
TZOFFSETFROM:+0200
TZOFFSETTO:+0100
TZNAME:CET
DTSTART:20251026T010000
END:STANDARD
END:VTIMEZONE
BEGIN:VEVENT
DTSTART;TZID=Europe/Rome:20251010T203000
DTEND;TZID=Europe/Rome:20251010T223000
DTSTAMP:20260420T053626
CREATED:20250930T164202Z
LAST-MODIFIED:20250930T202027Z
UID:10000062-1760128200-1760135400@studitorcellani.it
SUMMARY:ECHI DANTESCHI NELLA CATTEDRALE DI TORCELLO
DESCRIPTION:In occasione della tradizionali “Serate Dantesche” promosse dal Comitato Chiesa Vecchia di Biadene di Montebelluna\, serate speciale dedicata ai preziosi mosaici delle cattedrale di Torcello che\, secondo i più recenti studi di Emanuela Penni\, sono stati fonte sicura di ispirazione per la “Divina Commedia” di Dante Alighieri.\nUn tuffo nella storia\, nell’arte e nella letteratura. \nRelatore: Marco Molin – Direttore Centro Studi Torcellani. \nIngresso libero fino esaurimento posti disponibili.
URL:https://studitorcellani.it/evento/echi-danteschi-nella-cattedrale-di-torcello/
LOCATION:Chiesa vecchia di Biadene\, Via Carlo Moretti\, 1\, Montebelluna\, 31044
ATTACH;FMTTYPE=image/jpeg:https://studitorcellani.it/wp-content/uploads/2024/09/dettaglio-mosaico.jpg
ORGANIZER;CN="Studi Torcellani":MAILTO:cultura@studitorcellani.it
END:VEVENT
END:VCALENDAR