BEGIN:VCALENDAR
VERSION:2.0
PRODID:-//Centro Studi Torcellani - ECPv6.4.0.1//NONSGML v1.0//EN
CALSCALE:GREGORIAN
METHOD:PUBLISH
X-WR-CALNAME:Centro Studi Torcellani
X-ORIGINAL-URL:https://studitorcellani.it
X-WR-CALDESC:Eventi per Centro Studi Torcellani
REFRESH-INTERVAL;VALUE=DURATION:PT1H
X-Robots-Tag:noindex
X-PUBLISHED-TTL:PT1H
BEGIN:VTIMEZONE
TZID:Europe/Rome
BEGIN:DAYLIGHT
TZOFFSETFROM:+0100
TZOFFSETTO:+0200
TZNAME:CEST
DTSTART:20250330T010000
END:DAYLIGHT
BEGIN:STANDARD
TZOFFSETFROM:+0200
TZOFFSETTO:+0100
TZNAME:CET
DTSTART:20251026T010000
END:STANDARD
END:VTIMEZONE
BEGIN:VEVENT
DTSTART;TZID=Europe/Rome:20251029T173000
DTEND;TZID=Europe/Rome:20251029T190000
DTSTAMP:20260420T052557
CREATED:20251023T060556Z
LAST-MODIFIED:20251023T061214Z
UID:10000076-1761759000-1761764400@studitorcellani.it
SUMMARY:BURANO NOVECENTO. PRESENTAZIONE LIBRO
DESCRIPTION:Presentazione del libro “Burano Novecento” scritto dai fratelli Giorgio e Maurizio Crovato.\nUn’importante opera che porta a scoprire la storia e le tradizioni di questa isola della laguna veneta\, conosciuta in tutto il mondo\, durante un secolo ancora poco indagato e studiato. Il testo\, Edizioni Linea D’Acqua\, è impreziosito da vecchie immagini in bianco e nero e da fotografie di Gigi Ferrigno e Maurizio Rossi. Un’occasione per discutere sul futuro dell’isola di Burano. \nPresentazione del testo di Marco Molin – Direttore Centro Studi Torcellani. \nDurante la serata dialogano: Marco Molin – Direttore Centro Studi Torcellani\, Luigi Vidal – Presidente Cooperativa Pescatori San Marco e Maurizio Rossi – fotografo. Modera: Vittorio Pierobon – “Il Gazzettino”.\nSaranno presenti gli autori. \nIngresso libero fino esaurimento posti disponibili.
URL:https://studitorcellani.it/evento/burano-novecento-presentazione-libro-2/
LOCATION:Burano – Cinema Pio X\, San Martino Destro\, 57\, Burano VE\, 30012\, Italia
ATTACH;FMTTYPE=image/jpeg:https://studitorcellani.it/wp-content/uploads/2025/10/Libro-Crovato-6-ottobre-24.jpg
ORGANIZER;CN="Studi Torcellani":MAILTO:cultura@studitorcellani.it
END:VEVENT
END:VCALENDAR