BEGIN:VCALENDAR
VERSION:2.0
PRODID:-//Centro Studi Torcellani - ECPv6.4.0.1//NONSGML v1.0//EN
CALSCALE:GREGORIAN
METHOD:PUBLISH
X-ORIGINAL-URL:https://studitorcellani.it
X-WR-CALDESC:Eventi per Centro Studi Torcellani
REFRESH-INTERVAL;VALUE=DURATION:PT1H
X-Robots-Tag:noindex
X-PUBLISHED-TTL:PT1H
BEGIN:VTIMEZONE
TZID:Europe/Rome
BEGIN:DAYLIGHT
TZOFFSETFROM:+0100
TZOFFSETTO:+0200
TZNAME:CEST
DTSTART:20250330T010000
END:DAYLIGHT
BEGIN:STANDARD
TZOFFSETFROM:+0200
TZOFFSETTO:+0100
TZNAME:CET
DTSTART:20251026T010000
END:STANDARD
END:VTIMEZONE
BEGIN:VEVENT
DTSTART;TZID=Europe/Rome:20251112T160000
DTEND;TZID=Europe/Rome:20251112T173000
DTSTAMP:20260420T072001
CREATED:20250930T170641Z
LAST-MODIFIED:20250930T202557Z
UID:10000064-1762963200-1762968600@studitorcellani.it
SUMMARY:TORCELLO. UN VIAGGIO TRA STORIA E MITO
DESCRIPTION:In occasione della serata inaugurale del nuovo ciclo di incontri culturali “IncontriamociMercoledì” promosso dall’Assessorato alla Cultura del Comune di Martellago\, presentazione della riedizione aggiornata ed ampliata del primo numero della collana Quaderni Torcellani “Introduzione alla Storia Torcellana. Un affascinante viaggio tra realtà e mito“. \nIl Quaderno Torcellano ripercorre le tappe più salienti della storia di Torcello e della sua laguna\, dalle origini romane fino alla soppressione della diocesi torcellana avvenuta nel 1818. Non mancano però le leggende che da sempre accompagnano questi luoghi sospesi tra realtà e mito. \nDialogano assieme: Marco Molin – Centro Studi Torcellani e autore del testo e Paolo Gatto – Confratello della Scuola Grande di San Rocco di Venezia. \nIntroduce: Giuliana Barbiero – curatrice degli incontri. \nIngresso libero fino esaurimento posti disponibili.
URL:https://studitorcellani.it/evento/torcello-un-viaggio-tra-storia-e-mito/
LOCATION:Auditorium “SS. Salvatore”\, Piazza Vittoria\, 11\, Martellago\, 30030
ATTACH;FMTTYPE=image/jpeg:https://studitorcellani.it/wp-content/uploads/2025/08/Cop-Quaderni-Torcellani-1-Ristampa.jpeg
ORGANIZER;CN="Studi Torcellani":MAILTO:cultura@studitorcellani.it
END:VEVENT
END:VCALENDAR