BEGIN:VCALENDAR
VERSION:2.0
PRODID:-//Centro Studi Torcellani - ECPv6.4.0.1//NONSGML v1.0//EN
CALSCALE:GREGORIAN
METHOD:PUBLISH
X-WR-CALNAME:Centro Studi Torcellani
X-ORIGINAL-URL:https://studitorcellani.it
X-WR-CALDESC:Eventi per Centro Studi Torcellani
REFRESH-INTERVAL;VALUE=DURATION:PT1H
X-Robots-Tag:noindex
X-PUBLISHED-TTL:PT1H
BEGIN:VTIMEZONE
TZID:Europe/Rome
BEGIN:DAYLIGHT
TZOFFSETFROM:+0100
TZOFFSETTO:+0200
TZNAME:CEST
DTSTART:20250330T010000
END:DAYLIGHT
BEGIN:STANDARD
TZOFFSETFROM:+0200
TZOFFSETTO:+0100
TZNAME:CET
DTSTART:20251026T010000
END:STANDARD
END:VTIMEZONE
BEGIN:VEVENT
DTSTART;TZID=Europe/Rome:20251113T180000
DTEND;TZID=Europe/Rome:20251113T193000
DTSTAMP:20260420T071917
CREATED:20251014T170812Z
LAST-MODIFIED:20251014T170934Z
UID:10000074-1763056800-1763062200@studitorcellani.it
SUMMARY:I RECENTI RESTAURI DEL BATTISTERO DI FIRENZE
DESCRIPTION:“Prendersi cura del Patrimonio” è un ciclo di conferenze nato dalla collaborazione tra Centro Studi Torcellani e la storica Fornace Orsoni di Venezia\, dedicato alla cura e alla conservazione del patrimonio musivo\, attraverso il racconto di tre straordinari progetti di restauro e alla testimonianza di chi vive quotidianamente la realtà del cantiere. \nUn’occasione unica per scoprire tre capolavori dell’arte musiva: la Basilica di San Marco a Venezia\, il Battistero di San Giovanni a Firenze e il Duomo di Monreale. \nRelatori del secondo incontro: Vincenzo Vaccaro\, Consigliere della Fabbriceria di Santa Maria del Fiore e Beatrice Agostini\, Architetto Responsabile Uff. Restauri presso Opera di Santa Maria del Fiore. \nModerano gli incontri: Marco Molin – Centro Studi Torcellani e Laura Tonicello – Fornace Orsoni. \nIngresso gratuito con prenotazione obbligatoria su: https://artculture.orsoni.com/it
URL:https://studitorcellani.it/evento/i-recenti-restauri-del-battistero-di-firenze/
LOCATION:Venezia Fornace Orsoni\, Calle dei Vedei 1045/A\, Venezia\, 30124
ATTACH;FMTTYPE=image/webp:https://studitorcellani.it/wp-content/uploads/2025/10/Restauro-Battistero-Firenze.webp
ORGANIZER;CN="Studi Torcellani":MAILTO:cultura@studitorcellani.it
END:VEVENT
END:VCALENDAR