BEGIN:VCALENDAR
VERSION:2.0
PRODID:-//Centro Studi Torcellani - ECPv6.4.0.1//NONSGML v1.0//EN
CALSCALE:GREGORIAN
METHOD:PUBLISH
X-ORIGINAL-URL:https://studitorcellani.it
X-WR-CALDESC:Eventi per Centro Studi Torcellani
REFRESH-INTERVAL;VALUE=DURATION:PT1H
X-Robots-Tag:noindex
X-PUBLISHED-TTL:PT1H
BEGIN:VTIMEZONE
TZID:Europe/Rome
BEGIN:DAYLIGHT
TZOFFSETFROM:+0100
TZOFFSETTO:+0200
TZNAME:CEST
DTSTART:20250330T010000
END:DAYLIGHT
BEGIN:STANDARD
TZOFFSETFROM:+0200
TZOFFSETTO:+0100
TZNAME:CET
DTSTART:20251026T010000
END:STANDARD
END:VTIMEZONE
BEGIN:VEVENT
DTSTART;TZID=Europe/Rome:20251125T113000
DTEND;TZID=Europe/Rome:20251125T130000
DTSTAMP:20260420T072001
CREATED:20250930T173201Z
LAST-MODIFIED:20250930T203737Z
UID:10000066-1764070200-1764075600@studitorcellani.it
SUMMARY:LE ANTICHE CARTE DI SANTA CATERINA
DESCRIPTION:In occasione della tradizionale festa di Santa Caterina d’Alessandria alle quale è dedicata da secoli la chiesa di Mazzorbo\, si propone quest’anno una particolare visita-lezione all’Archivio di Stato di Venezia\, accompagnati dai responsabili culturali di questa prestigiosa istituzione che custodisce il patrimonio documentario della Serenissima Repubblica. \nDopo una breve introduzione sulle principali vicende storiche relative alla chiesa di Santa Caterina\, seguirà la visita all’Archivio dove sarà possibile vedere\, per la prima volta dopo secoli\, i preziosi documenti antichi appartenenti alla chiesa e al monastero di Santa Caterina di Mazzorbo\, il cui archivio conventuale è stato qui portato dopo le soppressioni napoleoniche. \nUN’OCCASIONE STORICA E UNICA DA NON PERDERE! \nInformazioni e prenotazioni (tassativamente entro giovedì 20 novembre) scrivendo a: itinerari@studiotorcellani.it
URL:https://studitorcellani.it/evento/tra-le-antiche-carte-di-un-monastero-lagunare/
LOCATION:Archivio di Stato di Venezia\, Campo dei Frari\, 3002\, Venezia\, 30125
ATTACH;FMTTYPE=image/jpeg:https://studitorcellani.it/wp-content/uploads/2025/09/Documento-monastero-1349-1.jpg
ORGANIZER;CN="Studi Torcellani":MAILTO:cultura@studitorcellani.it
END:VEVENT
END:VCALENDAR