BEGIN:VCALENDAR
VERSION:2.0
PRODID:-//Centro Studi Torcellani - ECPv6.4.0.1//NONSGML v1.0//EN
CALSCALE:GREGORIAN
METHOD:PUBLISH
X-WR-CALNAME:Centro Studi Torcellani
X-ORIGINAL-URL:https://studitorcellani.it
X-WR-CALDESC:Eventi per Centro Studi Torcellani
REFRESH-INTERVAL;VALUE=DURATION:PT1H
X-Robots-Tag:noindex
X-PUBLISHED-TTL:PT1H
BEGIN:VTIMEZONE
TZID:Europe/Rome
BEGIN:DAYLIGHT
TZOFFSETFROM:+0100
TZOFFSETTO:+0200
TZNAME:CEST
DTSTART:20250330T010000
END:DAYLIGHT
BEGIN:STANDARD
TZOFFSETFROM:+0200
TZOFFSETTO:+0100
TZNAME:CET
DTSTART:20251026T010000
END:STANDARD
END:VTIMEZONE
BEGIN:VEVENT
DTSTART;TZID=Europe/Rome:20251129T100000
DTEND;TZID=Europe/Rome:20251129T130000
DTSTAMP:20260420T071831
CREATED:20250930T171042Z
LAST-MODIFIED:20251115T083936Z
UID:10000065-1764410400-1764421200@studitorcellani.it
SUMMARY:TORCELLO...STORIA\, MITI\, CURIOSITA'
DESCRIPTION:Nell’ambito delle iniziative proposte dal Gruppo culturale “In Giro per Venezia” lezione in loco sulla storia e l’arte di Torcello e della sua laguna. Il percorso è accompagnato dagli scritti ottocenteschi inediti di Nicolò Battaglini\, primo direttore del Museo dell’isola. \nDocente: Marco Molin – Direttore Centro Studi Torcellani. \nLa partecipazione è riservata agli iscritti alle iniziative culturali del gruppo “In Giro per Venezia“.
URL:https://studitorcellani.it/evento/torcello-tra-storia-e-mito/
LOCATION:Isola di Torcello\, Torcello
ATTACH;FMTTYPE=image/jpeg:https://studitorcellani.it/wp-content/uploads/2025/09/20-scaled.jpg
ORGANIZER;CN="Studi Torcellani":MAILTO:cultura@studitorcellani.it
END:VEVENT
END:VCALENDAR