BEGIN:VCALENDAR
VERSION:2.0
PRODID:-//Centro Studi Torcellani - ECPv6.4.0.1//NONSGML v1.0//EN
CALSCALE:GREGORIAN
METHOD:PUBLISH
X-WR-CALNAME:Centro Studi Torcellani
X-ORIGINAL-URL:https://studitorcellani.it
X-WR-CALDESC:Eventi per Centro Studi Torcellani
REFRESH-INTERVAL;VALUE=DURATION:PT1H
X-Robots-Tag:noindex
X-PUBLISHED-TTL:PT1H
BEGIN:VTIMEZONE
TZID:Europe/Rome
BEGIN:DAYLIGHT
TZOFFSETFROM:+0100
TZOFFSETTO:+0200
TZNAME:CEST
DTSTART:20260329T010000
END:DAYLIGHT
BEGIN:STANDARD
TZOFFSETFROM:+0200
TZOFFSETTO:+0100
TZNAME:CET
DTSTART:20261025T010000
END:STANDARD
END:VTIMEZONE
BEGIN:VEVENT
DTSTART;TZID=Europe/Rome:20260426T100000
DTEND;TZID=Europe/Rome:20260426T130000
DTSTAMP:20260419T154035
CREATED:20260320T181918Z
LAST-MODIFIED:20260320T181918Z
UID:10000095-1777197600-1777208400@studitorcellani.it
SUMMARY:TORCELLO: STORIA DI UNA CITTA' SCOMPARSA
DESCRIPTION:In occasione della annuale programmazione culturale promossa dalla “Confraternita del Sagrantino” lezione itinerante sulle varie vicende storiche che nel corso dei secoli hanno visto protagonista il territorio lagunare torcellano\, con particolare riferimento alla storia della diocesi di Torcello. \nDocente: Marco Molin – Centro Studi Torcellani \nLA PARTECIAPAZIONE E’ RISERVATA
URL:https://studitorcellani.it/evento/torcello-storia-di-una-citta-scomparsa-3/
LOCATION:Isola di Torcello\, Torcello
ATTACH;FMTTYPE=image/bmp:https://studitorcellani.it/wp-content/uploads/2026/03/Giudizio-Universale-1.bmp
ORGANIZER;CN="Studi Torcellani":MAILTO:cultura@studitorcellani.it
END:VEVENT
END:VCALENDAR