BEGIN:VCALENDAR
VERSION:2.0
PRODID:-//Centro Studi Torcellani - ECPv6.4.0.1//NONSGML v1.0//EN
CALSCALE:GREGORIAN
METHOD:PUBLISH
X-WR-CALNAME:Centro Studi Torcellani
X-ORIGINAL-URL:https://studitorcellani.it
X-WR-CALDESC:Eventi per Centro Studi Torcellani
REFRESH-INTERVAL;VALUE=DURATION:PT1H
X-Robots-Tag:noindex
X-PUBLISHED-TTL:PT1H
BEGIN:VTIMEZONE
TZID:Europe/Rome
BEGIN:DAYLIGHT
TZOFFSETFROM:+0100
TZOFFSETTO:+0200
TZNAME:CEST
DTSTART:20260329T010000
END:DAYLIGHT
BEGIN:STANDARD
TZOFFSETFROM:+0200
TZOFFSETTO:+0100
TZNAME:CET
DTSTART:20261025T010000
END:STANDARD
END:VTIMEZONE
BEGIN:VEVENT
DTSTART;TZID=Europe/Rome:20260509T140000
DTEND;TZID=Europe/Rome:20260509T180000
DTSTAMP:20260419T184306
CREATED:20260214T143701Z
LAST-MODIFIED:20260214T145120Z
UID:10000086-1778335200-1778349600@studitorcellani.it
SUMMARY:RIMIRAR VAGANDO... A TORCELLO
DESCRIPTION:Nell’ambito del progetto sportivo culturale “Rimirar Vagando” nato dalla collaborazione tra Centro Studi Torcellani e Laguna Kayak\, seconda uscita in laguna con tappa verso l’isola di Torcello.\nPartendo da Punta Sabbioni\, si solcheranno solitari canali ricchi di storia per approdare nell’isola di Torcello\, grande emporio commerciale durante l’Alto Medioevo\, oggi affascinante museo a cielo aperto dove i monumenti rimasti in elevato parlano di una storia affascinante e ancora in gran parte da scoprire. \nI posti sono limitati e su prenotazione obbligatoria! \nRelatori dell’evento:\nMarco Molin – Presidente Centro Studi Torcellani e  Roberta Dei Rossi – Guida Laguna Kayak e istruttrice FICK. \nINFO E PRENOTAZIONI: info@lagunakayak.com
URL:https://studitorcellani.it/evento/rimirar-vagando-a-torcello-2/
LOCATION:Laguna Torcellana\, Cavallino-Treporti\, 30013
ATTACH;FMTTYPE=image/jpeg:https://studitorcellani.it/wp-content/uploads/2026/02/Rimirar-Vagando-6-settembre-17.jpg
ORGANIZER;CN="Studi Torcellani":MAILTO:cultura@studitorcellani.it
END:VEVENT
END:VCALENDAR