BEGIN:VCALENDAR
VERSION:2.0
PRODID:-//Centro Studi Torcellani - ECPv6.4.0.1//NONSGML v1.0//EN
CALSCALE:GREGORIAN
METHOD:PUBLISH
X-WR-CALNAME:Centro Studi Torcellani
X-ORIGINAL-URL:https://studitorcellani.it
X-WR-CALDESC:Eventi per Centro Studi Torcellani
REFRESH-INTERVAL;VALUE=DURATION:PT1H
X-Robots-Tag:noindex
X-PUBLISHED-TTL:PT1H
BEGIN:VTIMEZONE
TZID:Europe/Rome
BEGIN:DAYLIGHT
TZOFFSETFROM:+0100
TZOFFSETTO:+0200
TZNAME:CEST
DTSTART:20260329T010000
END:DAYLIGHT
BEGIN:STANDARD
TZOFFSETFROM:+0200
TZOFFSETTO:+0100
TZNAME:CET
DTSTART:20261025T010000
END:STANDARD
END:VTIMEZONE
BEGIN:VEVENT
DTSTART;TZID=Europe/Rome:20260912T090000
DTEND;TZID=Europe/Rome:20260912T130000
DTSTAMP:20260420T035947
CREATED:20260214T145838Z
LAST-MODIFIED:20260214T150405Z
UID:10000088-1789203600-1789218000@studitorcellani.it
SUMMARY:RIMIRAR VAGANDO... DA LIO PICCOLO ALLE SALINE E NON SOLO
DESCRIPTION:Nell’ambito del progetto sportivo culturale “Rimirar Vagando” nato dalla collaborazione tra Centro Studi Torcellani e Laguna Kayak\, quarta e ultima uscita in laguna con partenza da Lio Piccolo verso le isole scomparse della laguna torcellana.\nSolcando lentamente solitari canali ricchi di storia e di archeologia\, si potrà ammirare ciò che resta delle antiche isole di Ammiana e Costanziaca\, luoghi abitati già in epoca romana e poi lentamente sommersi nel corso dei secoli. \nI posti sono limitati e su prenotazione obbligatoria! \nRelatori dell’evento:\nMarco Molin – Presidente Centro Studi Torcellani e  Roberta Dei Rossi – Guida Laguna Kayak e istruttrice FICK. \nINFO E PRENOTAZIONI: info@lagunakayak.com
URL:https://studitorcellani.it/evento/rimirar-vagando-a-lio-piccolo-e-alla-saline/
LOCATION:Laguna Torcellana\, Cavallino-Treporti\, 30013
ATTACH;FMTTYPE=image/jpeg:https://studitorcellani.it/wp-content/uploads/2026/02/15.-Rimirar-Vagando-27-settembre-38.jpg
ORGANIZER;CN="Studi Torcellani":MAILTO:cultura@studitorcellani.it
END:VEVENT
END:VCALENDAR