BEGIN:VCALENDAR
VERSION:2.0
PRODID:-//Centro Studi Torcellani - ECPv6.4.0.1//NONSGML v1.0//EN
CALSCALE:GREGORIAN
METHOD:PUBLISH
X-ORIGINAL-URL:https://studitorcellani.it
X-WR-CALDESC:Eventi per Centro Studi Torcellani
REFRESH-INTERVAL;VALUE=DURATION:PT1H
X-Robots-Tag:noindex
X-PUBLISHED-TTL:PT1H
BEGIN:VTIMEZONE
TZID:Europe/Rome
BEGIN:DAYLIGHT
TZOFFSETFROM:+0100
TZOFFSETTO:+0200
TZNAME:CEST
DTSTART:20250330T010000
END:DAYLIGHT
BEGIN:STANDARD
TZOFFSETFROM:+0200
TZOFFSETTO:+0100
TZNAME:CET
DTSTART:20251026T010000
END:STANDARD
END:VTIMEZONE
BEGIN:VEVENT
DTSTART;TZID=Europe/Rome:20250906T080000
DTEND;TZID=Europe/Rome:20250906T133000
DTSTAMP:20260420T021023
CREATED:20250112T120437Z
LAST-MODIFIED:20250626T092835Z
UID:10000043-1757145600-1757165400@studitorcellani.it
SUMMARY:RIMIRAR VAGANDO...A TORCELLO
DESCRIPTION:Il Centro Studi Torcellani offre la propria collaborazione scientifica a LagunaKayak per il progetto sportivo-culturale “Rimirar Vagando” nel quale sport e cultura finalmente si uniscono nella scoperta della storia inedita del territorio lagunare torcellano.\nSolcando solitari canali ed ammirando suggestive barene accompagnati da Roberta Dei Rossi\, istruttrice della Federazione Italiana Canoa e Kayak (FICK)\, si rimarrà incantati da un paesaggio unico al mondo. \nOggi si propone “Rimirar Vagando… a Torcello“. \nLa partenza e il rientro sono fissati da Punta Sabbioni. Gli orari saranno indicati al momento della prenotazione sulla base della marea più idonea. L’esperienza è adatta a tutte le età. \nInfo e prenotazioni: info@lagunakayak.com e consultando il sito www.lagunakayak.com
URL:https://studitorcellani.it/evento/rimirar-vagando-a-torcello/
LOCATION:Laguna Torcellana\, Cavallino-Treporti\, 30013
ATTACH;FMTTYPE=image/jpeg:https://studitorcellani.it/wp-content/uploads/2025/01/7-settembre-Rimirar-Vagando-prima-edizione-38-scaled.jpg
ORGANIZER;CN="Studi Torcellani":MAILTO:cultura@studitorcellani.it
END:VEVENT
BEGIN:VEVENT
DTSTART;TZID=Europe/Rome:20250918T173000
DTEND;TZID=Europe/Rome:20250918T183000
DTSTAMP:20260420T021023
CREATED:20250807T151838Z
LAST-MODIFIED:20250916T183119Z
UID:10000057-1758216600-1758220200@studitorcellani.it
SUMMARY:TORCELLO. ALLE ORIGINI DI VENEZIA
DESCRIPTION:Nell’ambito delle iniziative culturali “I Giovedì della Torre” promosse dall’associazione “TesseraBella” per la valorizzazione del complesso monastico e della chiesa dei Santi Elena e Antonio Abate\, conferenza di presentazione del Quaderno Torcellano n. 1 “Introduzione alla Storia Torcellana. Un affascinante viaggio tra realtà e mito” nella sua nuova veste aggiornata ed ampliata\, impreziosita dalla presentazione di mons. Piero Pioppo\, Arcivescovo Titolare di Torcello e Nunzio Apostolico in Indonesia. \nDialogano assieme: Marco Molin – Presidente Centro Studi Torcellani e Alessandro Giantin dell’Associazione “TesseraBella”. \nIngresso libero fino esaurimento posti disponibili. \n 
URL:https://studitorcellani.it/evento/torcello-antica-e-moderna-presentazione-quaderno-8/
LOCATION:Tessera\, Via Triestina\, 141\, Tessera\, 30173
ATTACH;FMTTYPE=image/jpeg:https://studitorcellani.it/wp-content/uploads/2025/08/Cop-Quaderni-Torcellani-1-Ristampa.jpeg
ORGANIZER;CN="Studi Torcellani":MAILTO:cultura@studitorcellani.it
END:VEVENT
BEGIN:VEVENT
DTSTART;TZID=Europe/Rome:20250920T103000
DTEND;TZID=Europe/Rome:20250920T130000
DTSTAMP:20260420T021023
CREATED:20250807T152831Z
LAST-MODIFIED:20250916T183044Z
UID:10000058-1758364200-1758373200@studitorcellani.it
SUMMARY:TORCELLO. ALLE ORIGINI DI VENEZIA
DESCRIPTION:Nell’ambito delle iniziative culturali “I Giovedì della Torre” promosse dall’associazione “TesseraBella” viene proposta una lezione itinerante seguendo le indicazioni contenute nel libro “Introduzione alla Storia Torcellana. Un affascinante viaggio tra realtà e mito” andando alla scoperta della storia e dei misteri di questa antica ed importante città lagunare\, ora immersa tra canneti e barene. \nDocente: Marco Molin – Presidente Centro Studi Torcellani. \nLa partecipazione è riservata ai componenti dell’associazione “TesseraBella”.
URL:https://studitorcellani.it/evento/sulle-orme-di-nicolo-battaglini-3/
LOCATION:Isola di Torcello\, Torcello
ATTACH;FMTTYPE=image/jpeg:https://studitorcellani.it/wp-content/uploads/2025/08/Torcello-Tramonto.jpg
ORGANIZER;CN="Studi Torcellani":MAILTO:cultura@studitorcellani.it
END:VEVENT
BEGIN:VEVENT
DTSTART;TZID=Europe/Rome:20250927T080000
DTEND;TZID=Europe/Rome:20250927T150000
DTSTAMP:20260420T021023
CREATED:20250112T120641Z
LAST-MODIFIED:20250626T092746Z
UID:10000044-1758960000-1758985200@studitorcellani.it
SUMMARY:RIMIRAR VAGANDO...A LIO PICCOLO E ALLE SALINE
DESCRIPTION:Il Centro Studi Torcellani offre la propria collaborazione scientifica a LagunaKayak per il progetto sportivo-culturale “Rimirar Vagando” nel quale sport e cultura finalmente si uniscono nella scoperta della storia inedita del territorio lagunare torcellano.\nSolcando solitari canali ed ammirando suggestive barene accompagnati da Roberta Dei Rossi\, istruttrice della Federazione Italiana Canoa e Kayak (FICK)\, si rimarrà incantati da un paesaggio unico al mondo. \nOggi si propone “Rimirar Vagando… a Lio Piccolo e alle Saline“. \nLa partenza e il rientro sono fissati da Punta Sabbioni. Gli orari saranno indicati al momento della prenotazione sulla base della marea più idonea. L’esperienza è adatta a tutte le età. E’ previsto un pranzo a conclusione del progetto esperienziale. \nInfo e prenotazioni: info@lagunakayak.com e consultando il sito www.lagunakayak.com
URL:https://studitorcellani.it/evento/rimirara-vagando-a-lio-piccolo-e-alle-saline/
LOCATION:Laguna Torcellana\, Cavallino-Treporti\, 30013
ATTACH;FMTTYPE=image/jpeg:https://studitorcellani.it/wp-content/uploads/2025/01/7-settembre-Rimirar-Vagando-prima-edizione-38-scaled.jpg
ORGANIZER;CN="Studi Torcellani":MAILTO:cultura@studitorcellani.it
END:VEVENT
END:VCALENDAR