BEGIN:VCALENDAR
VERSION:2.0
PRODID:-//Centro Studi Torcellani - ECPv6.4.0.1//NONSGML v1.0//EN
CALSCALE:GREGORIAN
METHOD:PUBLISH
X-WR-CALNAME:Centro Studi Torcellani
X-ORIGINAL-URL:https://studitorcellani.it
X-WR-CALDESC:Eventi per Centro Studi Torcellani
REFRESH-INTERVAL;VALUE=DURATION:PT1H
X-Robots-Tag:noindex
X-PUBLISHED-TTL:PT1H
BEGIN:VTIMEZONE
TZID:Europe/Rome
BEGIN:DAYLIGHT
TZOFFSETFROM:+0100
TZOFFSETTO:+0200
TZNAME:CEST
DTSTART:20240331T010000
END:DAYLIGHT
BEGIN:STANDARD
TZOFFSETFROM:+0200
TZOFFSETTO:+0100
TZNAME:CET
DTSTART:20241027T010000
END:STANDARD
END:VTIMEZONE
BEGIN:VEVENT
DTSTART;TZID=Europe/Rome:20240815T154500
DTEND;TZID=Europe/Rome:20240815T170000
DTSTAMP:20260420T050702
CREATED:20240808T115513Z
LAST-MODIFIED:20240808T164717Z
UID:10000009-1723736700-1723741200@studitorcellani.it
SUMMARY:TORCELLO ANTICA E MODERNA. SULLE ORME DI NICOLO' BATTAGLINI.
DESCRIPTION:In occasione della tradizionale “Festa dell’Assunta” GIOVEDI’ 15 AGOSTO 2024 il Centro Studi Torcellani e San Servolo Servizi Metropolitani propongono due itinerari culturali alla scoperta delle bellezze custodite nel museo di Torcello\, seguendo il libro scritto nel 1871 da Nicolò Battaglini che ne è stato il primo direttore. \nSecondo itinerario alle ore 15.45.  Docente: Marco Molin – Centro Studi Torcellani \nINGRESSO GRATUITO CON PRENOTAZIONE OBBLIGATORIA (max 25 persone) SCRIVENDO A: itinerari@studitorcellani.it
URL:https://studitorcellani.it/evento/921/
LOCATION:Museo di Torcello\, Isola di Torcello
ATTACH;FMTTYPE=image/jpeg:https://studitorcellani.it/wp-content/uploads/2024/08/Torcello-antica.jpg
ORGANIZER;CN="Studi Torcellani":MAILTO:cultura@studitorcellani.it
END:VEVENT
BEGIN:VEVENT
DTSTART;TZID=Europe/Rome:20240815T124500
DTEND;TZID=Europe/Rome:20240815T140000
DTSTAMP:20260420T050702
CREATED:20240808T114541Z
LAST-MODIFIED:20240808T164753Z
UID:10000008-1723725900-1723730400@studitorcellani.it
SUMMARY:TORCELLO ANTICA E MODERNA. SULLE ORME DI NICOLO' BATTAGLINI.
DESCRIPTION:In occasione della tradizionale “Festa dell’Assunta” GIOVEDI’ 15 AGOSTO 2024 il Centro Studi Torcellani e San Servolo Servizi Metropolitani propongono due itinerari culturali alla scoperta delle bellezze custodite nel museo di Torcello\, seguendo il libro scritto nel 1871 da Nicolò Battaglini che ne è stato il primo direttore. \nPrimo itinerario alle ore 12.45.  Docente: Marco Molin – Centro Studi Torcellani \nINGRESSO GRATUITO CON PRENOTAZIONE OBBLIGATORIA (max 25 persone) SCRIVENDO A: itinerari@studitorcellani.it
URL:https://studitorcellani.it/evento/torcello-antica-e-moderna-sulle-orme-di-nicol-battaglini/
LOCATION:Museo di Torcello\, Isola di Torcello
ATTACH;FMTTYPE=image/jpeg:https://studitorcellani.it/wp-content/uploads/2024/08/Torcello-antica.jpg
ORGANIZER;CN="Studi Torcellani":MAILTO:cultura@studitorcellani.it
END:VEVENT
BEGIN:VEVENT
DTSTART;VALUE=DATE:20240717
DTEND;VALUE=DATE:20240718
DTSTAMP:20260420T050702
CREATED:20240716T155508Z
LAST-MODIFIED:20240716T160439Z
UID:10000007-1721174400-1721260799@studitorcellani.it
SUMMARY:TRA VINI E VIGNETI LAGUNARI
DESCRIPTION:In collaborazione con “Opera Wine Tour” e “Consorzio Vini Venezia” lezione itinerante alla scoperta delle antiche vigne monastiche della laguna torcellana e della loro secolare storia. \nLa partecipazione è riservata agli studiosi iscritti al progetto culturale.
URL:https://studitorcellani.it/evento/tra-vini-e-vigneti-lagunari/
LOCATION:Mazzorbo\, Fondamenta di Santa Caterina\, 30142 Venezia VE\, Mazzorbo VE\, 30142\, Italia
ATTACH;FMTTYPE=image/jpeg:https://studitorcellani.it/wp-content/uploads/2024/07/vini-3.jpg
ORGANIZER;CN="Studi Torcellani":MAILTO:cultura@studitorcellani.it
END:VEVENT
BEGIN:VEVENT
DTSTART;TZID=Europe/Rome:20240625T170000
DTEND;TZID=Europe/Rome:20240625T183000
DTSTAMP:20260420T050702
CREATED:20240624T152022Z
LAST-MODIFIED:20240626T091222Z
UID:10000005-1719334800-1719340200@studitorcellani.it
SUMMARY:Presentazione del libro "Drio l'ombra della morte nera"
DESCRIPTION:Un affascinate romanzo tra Genova e Venezia durante il periodo della peste nera. Alvise Contarini\, Tessa\, il doge Andrea Dandolo e altri personaggi in bilico tra misteri e ragion di Stato.\nL’autrice Paola Pozzolo Barbaro dialoga con Marco Molin presidente del Centro Studi Torcellani. \nIngresso libero.
URL:https://studitorcellani.it/evento/presentazione-del-libro-drio-lombra-della-morte-nera/
LOCATION:Palazzo Grimani (Venezia)\, Rugagiuffa\, 4858\, Venezia\, 30122\, Italia
CATEGORIES:eventi
ATTACH;FMTTYPE=image/jpeg:https://studitorcellani.it/wp-content/uploads/2024/06/f-drio-l-apos-ombra-de-la-morte-nera-venezia-1348.jpg
ORGANIZER;CN="Studi Torcellani":MAILTO:cultura@studitorcellani.it
END:VEVENT
BEGIN:VEVENT
DTSTART;TZID=Europe/Rome:20240622T174500
DTEND;TZID=Europe/Rome:20240622T193000
DTSTAMP:20260420T050702
CREATED:20240621T074551Z
LAST-MODIFIED:20240626T091412Z
UID:10000004-1719078300-1719084600@studitorcellani.it
SUMMARY:TORCELLO ANTICA E MODERNA. Sulle orme di Nicolò Battaglini.
DESCRIPTION:In occasione di Art Night 2024\, il Centro Studi Torcellani in collaborazione con San Servolo Servizi Metropolitani propone una visita-lezione gratuita alla scoperta delle meraviglie conservate all’interno del Museo di Torcello. \nPrenotazione obbligatoria scrivendo a: itinerari@studitorcellani.it
URL:https://studitorcellani.it/evento/sulle-orme-di-nicolo-battaglini/
LOCATION:Torcello – Museo\, Piazza\, 30175 isola di torcello VE\, Torcello VE\, 30175\, Italia
CATEGORIES:eventi
ATTACH;FMTTYPE=image/jpeg:https://studitorcellani.it/wp-content/uploads/2024/06/artnight.jpg
ORGANIZER;CN="Studi Torcellani":MAILTO:cultura@studitorcellani.it
END:VEVENT
END:VCALENDAR