BEGIN:VCALENDAR
VERSION:2.0
PRODID:-//Centro Studi Torcellani - ECPv6.4.0.1//NONSGML v1.0//EN
CALSCALE:GREGORIAN
METHOD:PUBLISH
X-WR-CALNAME:Centro Studi Torcellani
X-ORIGINAL-URL:https://studitorcellani.it
X-WR-CALDESC:Eventi per Centro Studi Torcellani
REFRESH-INTERVAL;VALUE=DURATION:PT1H
X-Robots-Tag:noindex
X-PUBLISHED-TTL:PT1H
BEGIN:VTIMEZONE
TZID:Europe/Rome
BEGIN:DAYLIGHT
TZOFFSETFROM:+0100
TZOFFSETTO:+0200
TZNAME:CEST
DTSTART:20250330T010000
END:DAYLIGHT
BEGIN:STANDARD
TZOFFSETFROM:+0200
TZOFFSETTO:+0100
TZNAME:CET
DTSTART:20251026T010000
END:STANDARD
END:VTIMEZONE
BEGIN:VEVENT
DTSTART;TZID=Europe/Rome:20250809T161500
DTEND;TZID=Europe/Rome:20250809T171500
DTSTAMP:20260419T154119
CREATED:20250807T100651Z
LAST-MODIFIED:20250807T154152Z
UID:10000055-1754756100-1754759700@studitorcellani.it
SUMMARY:INTRODUZIONE ALLA STORIA TORCELLANA
DESCRIPTION:In occasione della tradizionale festa della “Madonna della Neve” da sempre celebrata a Lio Piccolo\, viene presentata la riedizione ampliata ed aggiornata del primo numero della collana “Quaderni Torcellani” intitolato “Introduzione alla Storia Torcellana. Un affascinante viaggio tra realtà e mito“. Il testo è impreziosito dalla presentazione di mons. Piero Pioppo\, Arcivescovo Titolare di Torcello e Nunzio Apostolico.\n\nDialogano: Alberto Ballarin – Assessore alla Cultura del Comune di Cavallino-Treporti e Marco Molin – Presidente Centro Studi Torcellani e autore del Quaderno Torcellano. Un vivo ringraziamento all’Associazione “Il Borgo di Lio Piccolo” per il cortese invito alla manifestazione.\n\nDurante la giornata (10.30-19.30) sarà attivo il servizio navetta continuativo e gratuito dal cimitero di Treporti a Lio Piccolo e viceversa.
URL:https://studitorcellani.it/evento/introduzione-alla-storia-torcellana/
LOCATION:Lio Piccolo\, Via Lio Piccolo\, 2\, Cavallino-Treporti\, Seleziona uno Stato:\, 30013
ATTACH;FMTTYPE=image/jpeg:https://studitorcellani.it/wp-content/uploads/2025/08/Locandina-Madonna-Neve-2025.jpg
ORGANIZER;CN="Studi Torcellani":MAILTO:cultura@studitorcellani.it
END:VEVENT
END:VCALENDAR